BEGIN:VCALENDAR
VERSION:2.0
PRODID:-//Mandira Utrecht - ECPv6.15.20//NONSGML v1.0//EN
CALSCALE:GREGORIAN
METHOD:PUBLISH
X-WR-CALNAME:Mandira Utrecht
X-ORIGINAL-URL:https://mandira-utrecht.nl
X-WR-CALDESC:Evenementen voor Mandira Utrecht
REFRESH-INTERVAL;VALUE=DURATION:PT1H
X-Robots-Tag:noindex
X-PUBLISHED-TTL:PT1H
BEGIN:VTIMEZONE
TZID:Europe/Amsterdam
BEGIN:DAYLIGHT
TZOFFSETFROM:+0100
TZOFFSETTO:+0200
TZNAME:CEST
DTSTART:20240331T010000
END:DAYLIGHT
BEGIN:STANDARD
TZOFFSETFROM:+0200
TZOFFSETTO:+0100
TZNAME:CET
DTSTART:20241027T010000
END:STANDARD
BEGIN:DAYLIGHT
TZOFFSETFROM:+0100
TZOFFSETTO:+0200
TZNAME:CEST
DTSTART:20250330T010000
END:DAYLIGHT
BEGIN:STANDARD
TZOFFSETFROM:+0200
TZOFFSETTO:+0100
TZNAME:CET
DTSTART:20251026T010000
END:STANDARD
BEGIN:DAYLIGHT
TZOFFSETFROM:+0100
TZOFFSETTO:+0200
TZNAME:CEST
DTSTART:20260329T010000
END:DAYLIGHT
BEGIN:STANDARD
TZOFFSETFROM:+0200
TZOFFSETTO:+0100
TZNAME:CET
DTSTART:20261025T010000
END:STANDARD
END:VTIMEZONE
BEGIN:VEVENT
DTSTART;TZID=Europe/Amsterdam:20250315T190000
DTEND;TZID=Europe/Amsterdam:20250315T220000
DTSTAMP:20260423T174813
CREATED:20240603T123209Z
LAST-MODIFIED:20241122T112845Z
UID:8587-1742065200-1742076000@mandira-utrecht.nl
SUMMARY:Ecstatic Dance Mandira | Dj Yellow Rose
DESCRIPTION:We heten jou welkom bij Ecstatic Dance Mandira!\nEen kleinschalige setting voor de liefhebbers van kleine\, intieme(re)\, groepen. \nDe avond wordt gehost door Marc Swillens en Hansje (DJ Yellow rose) zal de avond vullen\nmet passende muziek. \nAfsluitend zal er een klein klankconcert zijn om de dans te integreren. \nIk ben Hansje aka DJ Yellow Rose en voor Ecstatic Dance Mandira zal ik voor jullie de muzikale dansreis verzorgen. Ongeveer 6 jaar geleden heb ik Ecstatic Dance ontdekt en als al-van-jongs-af-aan-gepassioneerde-danser voelde Ecstatic Dance als thuiskomen voor mij. De liefde voor het dansen\, de diepte in het verbinden met mezelf en anderen en dat gecombineerd met de vrijheid van bewegen en ‘zijn’ in Ecstatic Dance\, was voor mij de gouden combinatie om verliefd te worden op deze vorm van samenzijn. Liefde voor zowel muziek als bewegen was er al als heel klein meisje en dit heb ik in het bijzonder de afgelopen jaren steeds breder\, dieper en fijngevoeliger ontwikkeld. Ik kijk er enorm naar uit jullie mee te nemen op deze reis en samen met hart en ziel deze tocht te varen. \nEen gele roos staat voor warmte en vreugde en in het christendom zelfs voor spirituele verlichting en wijsheid. Dit is wat ik in mijn journeys ook graag wil overbrengen. Klanken waarin je wordt uitgenodigd dieper in jezelf te keren en daarin de warmte en wijsheid in jezelf te voeden. En ook\, uiteraard\, in de uptempo en lekkere BANGS zowel in zachtheid als expansie de vreugde en liefde met elkaar te vieren. \nRICHTLIJNEN tijdens de dans\n– Schoenen uit\n– We gebruiken geen woorden\n– We gebruiken geen middelen (drugs\, alcohol of psychedelica) \nLees verder voor meer uitleg en info over dit event via de knop “tickets kopen”
URL:https://mandira-utrecht.nl/agenda/ecstatic-dance-mandira-dj-yellow-rose/
LOCATION:Mandira\, Maliebaan 70a\, Utrecht\, Utrecht\, Nederland
CATEGORIES:Dans,Meditatie
ATTACH;FMTTYPE=image/png:https://mandira-utrecht.nl/wp-content/uploads/2024/06/KirTantra-2.png
END:VEVENT
END:VCALENDAR