BEGIN:VCALENDAR
VERSION:2.0
PRODID:-//Mandira Utrecht - ECPv6.15.20//NONSGML v1.0//EN
CALSCALE:GREGORIAN
METHOD:PUBLISH
X-WR-CALNAME:Mandira Utrecht
X-ORIGINAL-URL:https://mandira-utrecht.nl
X-WR-CALDESC:Evenementen voor Mandira Utrecht
REFRESH-INTERVAL;VALUE=DURATION:PT1H
X-Robots-Tag:noindex
X-PUBLISHED-TTL:PT1H
BEGIN:VTIMEZONE
TZID:UTC
BEGIN:STANDARD
TZOFFSETFROM:+0000
TZOFFSETTO:+0000
TZNAME:UTC
DTSTART:20250101T000000
END:STANDARD
END:VTIMEZONE
BEGIN:VEVENT
DTSTART;TZID=UTC:20260227T190000
DTEND;TZID=UTC:20260227T213000
DTSTAMP:20260419T144704
CREATED:20250925T133741Z
LAST-MODIFIED:20260222T192326Z
UID:9646-1772218800-1772227800@mandira-utrecht.nl
SUMMARY:(VOL) Kirtan Club | Lenteseizoen (elke 2 weken zingen met een vaste groep)
DESCRIPTION:Elke 2 weken komen samen op vrijdag om te zingen met een vaste groep. We zingen dan van 19:00 – 21:00. Daarna is er ruimte om sociaal te verbinden met elkaar. Voor elke keer vragen we 1 of 2 mensen om iets eerder te komen om alles klaar te zetten. Dit is overigens niet veel werk en geeft het gevoel van community met elkaar.\nAan het eind van de avond ruimen we samen op (5min).\nMarc begeleid de avonden samen met verschillende muzikanten. Regelmatig zal er ook een percussionist aanschuiven om de muziek te bekrachtigen. Bij de Kirtan Club geven we geen uitleg over de mantra’s. Enkel zingen & stilte. \nGoed om weten: “Uitproberen” kan helaas niet op de dag dat deze reeks begint. Hiervoor hebben we speciaal\nintroductie avonden. De eerst volgende is op 6 februari. Zie link.\nhttps://hipsy.nl/event/152567-introductie-kirtan-club-elke-2-weken-zingen-met-een-vaste-groep \n\n☆De Stilte:\nStilte is een belangrijk onderdeel van de verdieping\, voor het mantra zingen en na elke mantra.\nDe stilte geeft ruimte om te ervaren\, te voelen\, te zakken. Het zorgt voor een verdiepende ervaring.\nWe vragen dan ook bij binnenkomst om je bewust te zijn van stemvolume.\nHet is wenselijk om afgestemd met elkaar te praten waar nodig en daarbuiten uit “de verhalen” te blijven.\nNatuurlijk helemaal oke om even hallo te zeggen in woorden en elkaar een knuffel te geven 😉\nNa het zingen is er ruimte om sociaal met elkaar te verbinden als daar een behoefte aan is. Het staat je ook vrij om in stilte te vertrekken. \nWij bieden een bedding waarin je kunt zakken\, ontspannen en jezelf kunt openen.\nAlles mag er zijn\, elk deel in jou is welkom om gevoeld\, gehoord en gezien te worden.\nJe hoeft niets dan behalve aanwezig zijn in het moment. \n☆Deelname\nEr zijn 2 vormen om deel te nemen.\n1) instappen voor een half jaar (eind feb tot mid juli) Dit is inclusief onze Kirtan in de natuur in Driebergen\, waar we de reeks mee eindigen in juli.\n2) instappen voor 3 maanden (eind feb tot begin mei) \nVoor 6 maanden (10 keer samenkomen) betaal je 199\,-\nVoor 3 maanden (6 keer samenkomen) betaal je 133\,- \n☆De data die we samenkomen zijn \n27 februari\n13 & 27 maart\n10 & 24. april\n8 mei\n–\n22 mei\n5 & 19 juni \n3 juli @Kraaybeekerhof Driebergen (in de natuur) \nIn september start het najaarsseizoen\, doorstromen is mogelijk\nEr is plek voor 20 deelnemers. \nLees verder voor meer uitleg en info over dit event via de knop “tickets kopen”
URL:https://mandira-utrecht.nl/agenda/kirtan-club-lenteseizoen-elke-2-weken-zingen-met-een-vaste-groep/
LOCATION:Mandira\, Maliebaan 70a\, Utrecht\, Utrecht\, Nederland
CATEGORIES:Mantra's/Kirtan,Yoga
ATTACH;FMTTYPE=image/jpeg:https://mandira-utrecht.nl/wp-content/uploads/2025/09/Kirtan-CLub.jpg
END:VEVENT
END:VCALENDAR