BEGIN:VCALENDAR
VERSION:2.0
PRODID:-//Mandira Utrecht - ECPv6.15.20//NONSGML v1.0//EN
CALSCALE:GREGORIAN
METHOD:PUBLISH
X-WR-CALNAME:Mandira Utrecht
X-ORIGINAL-URL:https://mandira-utrecht.nl
X-WR-CALDESC:Evenementen voor Mandira Utrecht
REFRESH-INTERVAL;VALUE=DURATION:PT1H
X-Robots-Tag:noindex
X-PUBLISHED-TTL:PT1H
BEGIN:VTIMEZONE
TZID:UTC
BEGIN:STANDARD
TZOFFSETFROM:+0000
TZOFFSETTO:+0000
TZNAME:UTC
DTSTART:20240101T000000
END:STANDARD
END:VTIMEZONE
BEGIN:VEVENT
DTSTART;TZID=UTC:20250223T191500
DTEND;TZID=UTC:20250223T204500
DTSTAMP:20260423T231628
CREATED:20250204T103403Z
LAST-MODIFIED:20250204T103403Z
UID:9041-1740338100-1740343500@mandira-utrecht.nl
SUMMARY:Klankreis met gong & klankschalen
DESCRIPTION:Even tijd voor jezelf?\nEven helemaal ontspannen.\nNiets hoeven\, loslaten en ontvangen. \nEen uitnodiging om je mee te laten nemen in een intuïtieve klankreis van magisch helende klanken.\nAfgestemd op de groep zal Marc intuïtief de gong en klankschalen inzetten om jou mee te nemen in een reis naar binnen. De klankschalen en gong zijn afgestemd op 432hz en hebben daarmee een zuiverende en helende klank en kracht. \nBij aankomst doen we een meditatie en is er ruimte om te delen wat er in je leeft en eventueel een intentie te zetten en delen.\nKort daarna mag je een plekje vinden in de zaal en wordt je meegenomen in een klankreis.\nDaarna is er ruimte om nog te blijven hangen voor een kopje thee en eventueel sociale interactie. \nWees welkom bij deze reis. \nLees verder voor meer uitleg en info over dit event via de knop “tickets kopen”
URL:https://mandira-utrecht.nl/agenda/klankreis-met-gong-klankschalen-5/
LOCATION:Mandira\, Maliebaan 70a\, Utrecht\, Utrecht\, Nederland
CATEGORIES:Klankreizen,Meditatie
ATTACH;FMTTYPE=image/jpeg:https://mandira-utrecht.nl/wp-content/uploads/2023/05/WhatsApp-Image-2021-10-17-at-18.43.22.jpeg
END:VEVENT
END:VCALENDAR