BEGIN:VCALENDAR
VERSION:2.0
PRODID:-//Mandira Utrecht - ECPv6.15.20//NONSGML v1.0//EN
CALSCALE:GREGORIAN
METHOD:PUBLISH
X-WR-CALNAME:Mandira Utrecht
X-ORIGINAL-URL:https://mandira-utrecht.nl
X-WR-CALDESC:Evenementen voor Mandira Utrecht
REFRESH-INTERVAL;VALUE=DURATION:PT1H
X-Robots-Tag:noindex
X-PUBLISHED-TTL:PT1H
BEGIN:VTIMEZONE
TZID:UTC
BEGIN:STANDARD
TZOFFSETFROM:+0000
TZOFFSETTO:+0000
TZNAME:UTC
DTSTART:20240101T000000
END:STANDARD
END:VTIMEZONE
BEGIN:VEVENT
DTSTART;TZID=UTC:20251019T191500
DTEND;TZID=UTC:20251019T204500
DTSTAMP:20260419T184943
CREATED:20250217T120027Z
LAST-MODIFIED:20250930T165239Z
UID:9097-1760901300-1760906700@mandira-utrecht.nl
SUMMARY:Klankreis met gong & klankschalen
DESCRIPTION:Even tijd voor jezelf?\nEven helemaal ontspannen.\nNiets hoeven\, loslaten en ontvangen. \nEen uitnodiging om je mee te laten nemen in een intuïtieve klankreis van magisch helende klanken.\nAfgestemd op de groep zal Marc intuïtief de gong en klankschalen inzetten om jou mee te nemen in een reis naar binnen. De klankschalen en gong hebben een zuiverende en helende klank en kracht wat bijdraagt aan ontspanning\, helderheid en soms ook inzichten.\nBij aankomst doen we een meditatie en is er ruimte om te delen wat er in je leeft en eventueel een intentie te zetten. \nAan het eind van de reis is er ruimte om nog te delen over je ervaring\, vragen te stellen en te blijven hangen voor een kopje thee en eventueel sociale interactie. \nWees welkom bij deze reis. \nLees verder voor meer uitleg en info over dit event via de knop “tickets kopen”
URL:https://mandira-utrecht.nl/agenda/klankreis-met-gong-klankschalen-6/
LOCATION:Mandira\, Maliebaan 70a\, Utrecht\, Utrecht\, Nederland
CATEGORIES:Klankreizen,Meditatie
ATTACH;FMTTYPE=image/png:https://mandira-utrecht.nl/wp-content/uploads/2025/02/Ligconcert.png
END:VEVENT
END:VCALENDAR