BEGIN:VCALENDAR
VERSION:2.0
PRODID:-//Mandira Utrecht - ECPv6.15.20//NONSGML v1.0//EN
CALSCALE:GREGORIAN
METHOD:PUBLISH
X-WR-CALNAME:Mandira Utrecht
X-ORIGINAL-URL:https://mandira-utrecht.nl
X-WR-CALDESC:Evenementen voor Mandira Utrecht
REFRESH-INTERVAL;VALUE=DURATION:PT1H
X-Robots-Tag:noindex
X-PUBLISHED-TTL:PT1H
BEGIN:VTIMEZONE
TZID:Europe/Amsterdam
BEGIN:DAYLIGHT
TZOFFSETFROM:+0100
TZOFFSETTO:+0200
TZNAME:CEST
DTSTART:20240331T010000
END:DAYLIGHT
BEGIN:STANDARD
TZOFFSETFROM:+0200
TZOFFSETTO:+0100
TZNAME:CET
DTSTART:20241027T010000
END:STANDARD
BEGIN:DAYLIGHT
TZOFFSETFROM:+0100
TZOFFSETTO:+0200
TZNAME:CEST
DTSTART:20250330T010000
END:DAYLIGHT
BEGIN:STANDARD
TZOFFSETFROM:+0200
TZOFFSETTO:+0100
TZNAME:CET
DTSTART:20251026T010000
END:STANDARD
BEGIN:DAYLIGHT
TZOFFSETFROM:+0100
TZOFFSETTO:+0200
TZNAME:CEST
DTSTART:20260329T010000
END:DAYLIGHT
BEGIN:STANDARD
TZOFFSETFROM:+0200
TZOFFSETTO:+0100
TZNAME:CET
DTSTART:20261025T010000
END:STANDARD
END:VTIMEZONE
BEGIN:VEVENT
DTSTART;TZID=Europe/Amsterdam:20251012T101500
DTEND;TZID=Europe/Amsterdam:20251012T173000
DTSTAMP:20260419T200241
CREATED:20230612T105827Z
LAST-MODIFIED:20251016T125417Z
UID:6816-1760264100-1760290200@mandira-utrecht.nl
SUMMARY:(VOL) Tantra Workshop | Desires & Boundaries | XL Editie
DESCRIPTION:Durf jij je verlangens te volgen? En uit te spreken?\nEn ben je ook in staat je grenzen aan te geven? \nJe verlangen volgen. Het klinkt makkelijk en luchtig\, en toch is het vaak lastig. Het wordt je als kind niet aangeleerd\, eerder afgeleerd. En daarna blijft het een beetje een taboe. Zeker als het gaat om seksuele verlangens\, maar ook andere verlangens; lekker willen rennen door het natte gras\, verlangen naar een beschermende arm om je heen\, een onbeschaamd grote hap van een brownie nemen … Je hebt geleerd je in te houden\, verantwoordelijk en volwassen te zijn\, sterk te zijn. Je verlangen volgen\, dat lijkt al snel egoïstisch of onverantwoordelijk. \nNog ingewikkelder wordt het als een andere betrokken is in je verlangen. Wat als die ander niet wil wat jij zo graag wil? Uit angst voor afwijzing leer je het af om je diepste verlangen uit te spreken\, zeg je vaker wat je denkt dat de ander wil. Zo voer je in jezelf al een onderhandeling tussen wat jij wilt en wat jij denkt dat de ander wilt. Wat je vervolgens uitspreekt is een compromis. Maar wat als je ongefilterd je eigen verlangen uit zou spreken? Wat opent zich dan? \nIn tantra is verlangen geen taboe. Ieder verlangen is welkom. Wat ervoor nodig is je verlangen te volgen is allereerst te voelen. Vertragen helpt daarbij\, om te voelen wat je werkelijk wilt\, op dat moment. Niet wat je denkt te willen\, wat je vindt dat je moet willen of wat sociaal wenselijk is om te willen – wat JIJ WIL. Dat voelen\, en dat vervolgens uitspreken\, is kwetsbaar. \n* Deze workshop kan mogelijk in het engels worden begeleid als er deelnemers zijn die geen Nederlands spreken/verstaan \nLees verder voor meer uitleg en info over dit event via de knop “tickets kopen
URL:https://mandira-utrecht.nl/agenda/tantra-workshop-desires-boundaries/
LOCATION:Mandira\, Maliebaan 70a\, Utrecht\, Utrecht\, Nederland
CATEGORIES:Authentic Relating,Persoonlijke ontwikkeling,Tantra
ATTACH;FMTTYPE=image/png:https://mandira-utrecht.nl/wp-content/uploads/2023/06/Desires-boundaries-Facbook.png
END:VEVENT
END:VCALENDAR