BEGIN:VCALENDAR
VERSION:2.0
PRODID:-//Mandira Utrecht - ECPv6.15.20//NONSGML v1.0//EN
CALSCALE:GREGORIAN
METHOD:PUBLISH
X-WR-CALNAME:Mandira Utrecht
X-ORIGINAL-URL:https://mandira-utrecht.nl
X-WR-CALDESC:Evenementen voor Mandira Utrecht
REFRESH-INTERVAL;VALUE=DURATION:PT1H
X-Robots-Tag:noindex
X-PUBLISHED-TTL:PT1H
BEGIN:VTIMEZONE
TZID:Europe/Amsterdam
BEGIN:DAYLIGHT
TZOFFSETFROM:+0100
TZOFFSETTO:+0200
TZNAME:CEST
DTSTART:20250330T010000
END:DAYLIGHT
BEGIN:STANDARD
TZOFFSETFROM:+0200
TZOFFSETTO:+0100
TZNAME:CET
DTSTART:20251026T010000
END:STANDARD
BEGIN:DAYLIGHT
TZOFFSETFROM:+0100
TZOFFSETTO:+0200
TZNAME:CEST
DTSTART:20260329T010000
END:DAYLIGHT
BEGIN:STANDARD
TZOFFSETFROM:+0200
TZOFFSETTO:+0100
TZNAME:CET
DTSTART:20261025T010000
END:STANDARD
BEGIN:DAYLIGHT
TZOFFSETFROM:+0100
TZOFFSETTO:+0200
TZNAME:CEST
DTSTART:20270328T010000
END:DAYLIGHT
BEGIN:STANDARD
TZOFFSETFROM:+0200
TZOFFSETTO:+0100
TZNAME:CET
DTSTART:20271031T010000
END:STANDARD
END:VTIMEZONE
BEGIN:VEVENT
DTSTART;TZID=Europe/Amsterdam:20260306T124500
DTEND;TZID=Europe/Amsterdam:20260306T170000
DTSTAMP:20260419T160436
CREATED:20260102T130257Z
LAST-MODIFIED:20260102T130257Z
UID:9851-1772801100-1772816400@mandira-utrecht.nl
SUMMARY:Tantra Workshop | Stromend & Vrij
DESCRIPTION:In tantra hebben we het vaak over ‘stromen’\, je ‘vrije stroom’ voelen of het laten ‘stromen van energie’. Waar hebben we het dan over? Deze middag gaan we oefenen met het voelbaar laten zijn van je eigen energie\, daarop te vertrouwen en er misschien zelfs behoorlijk van te genieten. \nIedereen kent wel beweging of verstarring. Als het stroomt voelt het als ‘er lekker inzitten’. Zoals het gevoel van verliefdheid of hoe je je voelt na het sporten. Of de heerlijkheid van seks waarbij je niet in je hoofd zit maar alles gewoon vanzelf lijkt te gaan. Maar het stroomt óók als je je boosheid toe kunt staan of je verdriet vol kunt voelen. Als we het allemaal toestaan\, transformeert de energie continu weer in iets anders. \nEen van de basisprincipes in tantra is dat wij en alles om ons heen bestaat uit levensenergie (of noem het seksuele energie\, Shakti\, vitale energie… we bedoelen er allemaal hetzelfde mee). In het leven gebeurt er van alles waardoor we deze energie minder gaan voelen of vastzetten. Sommige vormen van energie zijn nou eenmaal makkelijker toe te laten dan anderen. Je herkent ook vast wel het gevoel van stagnatie: in je hoofd zitten\, weerstand\, maar niet op gang komen\, je niet uitspreken\, emoties niet toelaten… \nIn deze workshop gaan we vooral onderzoeken en ervaren hoe je je energie vrijer kunt laten stromen\, waar je jezelf tegenhoudt en hoe heerlijk het kan voelen om je levensenergie\, welke vorm het ook aanneemt\, te laten stromen. \nWil je:\n-Kennis maken met je stromendheid?\n-Iets meer uit je hoofd en oefenen met leven vanuit je vrije stroom?\n-Je meer thuis voelen in je lichaam?\n-Onderzoeken hoe je in ‘flow’ kunt zijn?\n-Experimenteren om vanuit je vrije stroom in contact te zijn met anderen? \nJe bent heel welkom! \nJe zult oefeningen doen op jezelf en in contact met anderen. We blijven weg van expliciete seksualiteit en naaktheid. Waar aanraking wordt uitgenodigd\, ben je uiteraard helemaal vrij om daarin je eigen grenzen te waarborgen. \nLees verder voor meer uitleg en info over dit event via de knop “tickets kopen”
URL:https://mandira-utrecht.nl/agenda/tantra-workshop-stromend-vrij/
LOCATION:Mandira\, Maliebaan 70a\, Utrecht\, Utrecht\, Nederland
CATEGORIES:Authentic Relating,Persoonlijke ontwikkeling,Tantra
ATTACH;FMTTYPE=image/png:https://mandira-utrecht.nl/wp-content/uploads/2026/01/workshopbanners-13.png
END:VEVENT
END:VCALENDAR